BEGIN:VCALENDAR
VERSION:2.0
PRODID:-//Wests Tamworth - ECPv6.15.16.1//NONSGML v1.0//EN
CALSCALE:GREGORIAN
METHOD:PUBLISH
X-WR-CALNAME:Wests Tamworth
X-ORIGINAL-URL:https://wtlc.com.au
X-WR-CALDESC:Events for Wests Tamworth
REFRESH-INTERVAL;VALUE=DURATION:PT1H
X-Robots-Tag:noindex
X-PUBLISHED-TTL:PT1H
BEGIN:VTIMEZONE
TZID:UTC
BEGIN:STANDARD
TZOFFSETFROM:+0000
TZOFFSETTO:+0000
TZNAME:UTC
DTSTART:20250101T000000
END:STANDARD
END:VTIMEZONE
BEGIN:VEVENT
DTSTART;TZID=UTC:20260626T180000
DTEND;TZID=UTC:20260628T190000
DTSTAMP:20260419T152435
CREATED:20250209T230011Z
LAST-MODIFIED:20260414T011816Z
UID:22055-1782496800-1782673200@wtlc.com.au
SUMMARY:NSWRL Magic Round
DESCRIPTION:The NSWRL will return to Tamworth in 2026 with the Regional Magic Round\, set to light up Scully Park from 26-28 June. This three-day festival of Rugby League will feature an action-packed lineup of games in The Knock-On Effect NSW Cup. \nChildren 4yrs & under – FREE ENTRY \n\n📅 Match Schedule:\nFriday 26th June\n6:00pm – Gates\n7:00pm – Parramatta Eels v Newcastle Knights \nSaturday 27th June\n10:00am – Gates\n11:00am – St George Dragons v Penrith Panthers\n3:00pm – Sydney Roosters v South Sydney Rabbitohs \nSunday 28th June\n10:00am – Gates\n11:00am – North Sydney Bears v Melbourne Storm\n3:00pm – Manly Sea Eagles v Canterbury Bankstown Bulldogs \n🚫 Event Info: \n\nCashless Event: All purchases at Scully Park will be cashless.\nProhibited Items:\n\nChairs\, esky coolers\, tents/shades/umbrellas\nAlcohol\, glass bottles\, or cans\nHot food/fast food from outside vendors\nIllegal substances\, laser pointers\, weapons/knives\nFlares\, explosives\, or any objects that may be used as weapons\n\n\n\nDon’t miss your chance to be part of Rugby League history in Tamworth! Secure your tickets now and experience every moment of the Regional Magic Round live at Scully Park.
URL:https://wtlc.com.au/event/nswrl-magic-round/
CATEGORIES:active,Box office
ATTACH;FMTTYPE=image/jpeg:https://wtlc.com.au/wp-content/uploads/2025/02/Magic-Round-Web.jpg
END:VEVENT
END:VCALENDAR