BEGIN:VCALENDAR
VERSION:2.0
PRODID:-//Wests Tamworth - ECPv6.15.16.1//NONSGML v1.0//EN
CALSCALE:GREGORIAN
METHOD:PUBLISH
X-WR-CALNAME:Wests Tamworth
X-ORIGINAL-URL:https://wtlc.com.au
X-WR-CALDESC:Events for Wests Tamworth
REFRESH-INTERVAL;VALUE=DURATION:PT1H
X-Robots-Tag:noindex
X-PUBLISHED-TTL:PT1H
BEGIN:VTIMEZONE
TZID:UTC
BEGIN:STANDARD
TZOFFSETFROM:+0000
TZOFFSETTO:+0000
TZNAME:UTC
DTSTART:20240101T000000
END:STANDARD
END:VTIMEZONE
BEGIN:VEVENT
DTSTART;TZID=UTC:20250514T183000
DTEND;TZID=UTC:20250514T183000
DTSTAMP:20260419T151547
CREATED:20250130T235844Z
LAST-MODIFIED:20250130T235844Z
UID:21980-1747247400-1747247400@wtlc.com.au
SUMMARY:Alpha Wolf
DESCRIPTION:Strictly 18+\n‘TERRIBLE DAYS ACROSS AUSTRALIA’ Regional Tour 2025\nWith special guests Malevolence (UK) + Zuko \n\nFollowing an entirely sold out recent headline run and the acclaimed release of their new album Half Living Things\, 2025 is already shaping up to be another monster for ALPHA WOLF\, with the band today announcing the Terrible Days Across Australia 2025 regional tour\, joined this May and early June by special guests MALEVOLENCE (UK) and ZUKO. \n“We are hyped to be bringing a headline show out to the Aussie regional spots that don’t get shows too often\, making this our longest Australian tour to date. The energy of the shows is something different to anywhere else in the world. and we have been waiting a long time to come back after spending a lot of the last few years overseas. Being able to bring our friends in Malevolence all the way from the UK is an honour\, and we can’t wait to show them all the weird and wonderful spots Australia has to offer\, as well as the new blood in Zuko. Don’t miss these shows!” – Alpha Wolf slated for mid/late 2025. Watch this space!
URL:https://wtlc.com.au/event/alpha-wolf/
LOCATION:Blazes Showroom\, West Tamworth League Club\, Tamworth\, NSW\, 2340\, Australia
CATEGORIES:active,Box office
ATTACH;FMTTYPE=image/jpeg:https://wtlc.com.au/wp-content/uploads/2025/01/Alpha-Wolf-Website.jpg
END:VEVENT
END:VCALENDAR