BEGIN:VCALENDAR
VERSION:2.0
PRODID:-//Wests Tamworth - ECPv6.15.16.1//NONSGML v1.0//EN
CALSCALE:GREGORIAN
METHOD:PUBLISH
X-ORIGINAL-URL:https://wtlc.com.au
X-WR-CALDESC:Events for Wests Tamworth
REFRESH-INTERVAL;VALUE=DURATION:PT1H
X-Robots-Tag:noindex
X-PUBLISHED-TTL:PT1H
BEGIN:VTIMEZONE
TZID:UTC
BEGIN:STANDARD
TZOFFSETFROM:+0000
TZOFFSETTO:+0000
TZNAME:UTC
DTSTART:20210101T000000
END:STANDARD
END:VTIMEZONE
BEGIN:VEVENT
DTSTART;TZID=UTC:20220524T190000
DTEND;TZID=UTC:20220524T190000
DTSTAMP:20260424T124403
CREATED:20210924T042925Z
LAST-MODIFIED:20220518T040915Z
UID:14590-1653418800-1653418800@wtlc.com.au
SUMMARY:CLUB BINGO | DIGGERS
DESCRIPTION:At Diggers from 7.00pm
URL:https://wtlc.com.au/event/westpac-charity-bingo/2022-05-24/
CATEGORIES:active,Club Activities
ATTACH;FMTTYPE=image/jpeg:https://wtlc.com.au/wp-content/uploads/2021/09/Bingo-Diggers-Tuesday-800-x600.jpg
END:VEVENT
END:VCALENDAR