BEGIN:VCALENDAR
VERSION:2.0
PRODID:-//Wests Tamworth - ECPv6.15.16.1//NONSGML v1.0//EN
CALSCALE:GREGORIAN
METHOD:PUBLISH
X-WR-CALNAME:Wests Tamworth
X-ORIGINAL-URL:https://wtlc.com.au
X-WR-CALDESC:Events for Wests Tamworth
REFRESH-INTERVAL;VALUE=DURATION:PT1H
X-Robots-Tag:noindex
X-PUBLISHED-TTL:PT1H
BEGIN:VTIMEZONE
TZID:UTC
BEGIN:STANDARD
TZOFFSETFROM:+0000
TZOFFSETTO:+0000
TZNAME:UTC
DTSTART:20220101T000000
END:STANDARD
END:VTIMEZONE
BEGIN:VEVENT
DTSTART;TZID=UTC:20230412T190000
DTEND;TZID=UTC:20230412T190000
DTSTAMP:20260421T164832
CREATED:20210924T041303Z
LAST-MODIFIED:20240604T064924Z
UID:14394-1681326000-1681326000@wtlc.com.au
SUMMARY:TRIVIA NIGHT | DIGGERS
DESCRIPTION:From 7pm \n1st Prize: $100 Voucher | 2nd Prize: $50 Voucher | 7th Prize:$20 Voucher
URL:https://wtlc.com.au/event/trivia-night-diggers/2023-04-12/
CATEGORIES:active,Club Activities
ATTACH;FMTTYPE=image/jpeg:https://wtlc.com.au/wp-content/uploads/2021/09/Trivia-Night.jpg
END:VEVENT
END:VCALENDAR