BEGIN:VCALENDAR
VERSION:2.0
PRODID:-//Wests Tamworth - ECPv6.15.16.1//NONSGML v1.0//EN
CALSCALE:GREGORIAN
METHOD:PUBLISH
X-ORIGINAL-URL:https://wtlc.com.au
X-WR-CALDESC:Events for Wests Tamworth
REFRESH-INTERVAL;VALUE=DURATION:PT1H
X-Robots-Tag:noindex
X-PUBLISHED-TTL:PT1H
BEGIN:VTIMEZONE
TZID:UTC
BEGIN:STANDARD
TZOFFSETFROM:+0000
TZOFFSETTO:+0000
TZNAME:UTC
DTSTART:20250101T000000
END:STANDARD
END:VTIMEZONE
BEGIN:VEVENT
DTSTART;VALUE=DATE:20260125
DTEND;VALUE=DATE:20260824
DTSTAMP:20260421T151530
CREATED:20250203T234849Z
LAST-MODIFIED:20250203T234849Z
UID:23414-1769299200-1787529599@wtlc.com.au
SUMMARY:The Courts - Sunday Spritz
DESCRIPTION:Refresh your Sundays with our Sunday Spritz special—five vibrant spritz options including Aperol\, Peach\, Limoncello\, Rhubi\, and Fresco. All day\, every Sunday\, for just $13 each. The perfect way to sip and relax!\n\n\n\n\nAvailable from The Courts at East exclusively. \nNot a member yet? Become a Wests member today to unlock exclusive deals and enjoy the best bar and restaurant specials in town.
URL:https://wtlc.com.au/event/the-courts-sunday-spritz/2026-01-25/
CATEGORIES:active,Member Promotions
ATTACH;FMTTYPE=image/jpeg:https://wtlc.com.au/wp-content/uploads/2025/02/Sunday-Spritz.jpg
END:VEVENT
BEGIN:VEVENT
DTSTART;VALUE=DATE:20260201
DTEND;VALUE=DATE:20260831
DTSTAMP:20260421T151530
CREATED:20250203T234849Z
LAST-MODIFIED:20250203T234849Z
UID:23440-1769904000-1788134399@wtlc.com.au
SUMMARY:The Courts - Sunday Spritz
DESCRIPTION:Refresh your Sundays with our Sunday Spritz special—five vibrant spritz options including Aperol\, Peach\, Limoncello\, Rhubi\, and Fresco. All day\, every Sunday\, for just $13 each. The perfect way to sip and relax!\n\n\n\n\nAvailable from The Courts at East exclusively. \nNot a member yet? Become a Wests member today to unlock exclusive deals and enjoy the best bar and restaurant specials in town.
URL:https://wtlc.com.au/event/the-courts-sunday-spritz/2026-02-01/
CATEGORIES:active,Member Promotions
ATTACH;FMTTYPE=image/jpeg:https://wtlc.com.au/wp-content/uploads/2025/02/Sunday-Spritz.jpg
END:VEVENT
BEGIN:VEVENT
DTSTART;VALUE=DATE:20260208
DTEND;VALUE=DATE:20260907
DTSTAMP:20260421T151530
CREATED:20250203T234849Z
LAST-MODIFIED:20250203T234849Z
UID:23450-1770508800-1788739199@wtlc.com.au
SUMMARY:The Courts - Sunday Spritz
DESCRIPTION:Refresh your Sundays with our Sunday Spritz special—five vibrant spritz options including Aperol\, Peach\, Limoncello\, Rhubi\, and Fresco. All day\, every Sunday\, for just $13 each. The perfect way to sip and relax!\n\n\n\n\nAvailable from The Courts at East exclusively. \nNot a member yet? Become a Wests member today to unlock exclusive deals and enjoy the best bar and restaurant specials in town.
URL:https://wtlc.com.au/event/the-courts-sunday-spritz/2026-02-08/
CATEGORIES:active,Member Promotions
ATTACH;FMTTYPE=image/jpeg:https://wtlc.com.au/wp-content/uploads/2025/02/Sunday-Spritz.jpg
END:VEVENT
BEGIN:VEVENT
DTSTART;VALUE=DATE:20260215
DTEND;VALUE=DATE:20260914
DTSTAMP:20260421T151530
CREATED:20250203T234849Z
LAST-MODIFIED:20250203T234849Z
UID:23472-1771113600-1789343999@wtlc.com.au
SUMMARY:The Courts - Sunday Spritz
DESCRIPTION:Refresh your Sundays with our Sunday Spritz special—five vibrant spritz options including Aperol\, Peach\, Limoncello\, Rhubi\, and Fresco. All day\, every Sunday\, for just $13 each. The perfect way to sip and relax!\n\n\n\n\nAvailable from The Courts at East exclusively. \nNot a member yet? Become a Wests member today to unlock exclusive deals and enjoy the best bar and restaurant specials in town.
URL:https://wtlc.com.au/event/the-courts-sunday-spritz/2026-02-15/
CATEGORIES:active,Member Promotions
ATTACH;FMTTYPE=image/jpeg:https://wtlc.com.au/wp-content/uploads/2025/02/Sunday-Spritz.jpg
END:VEVENT
BEGIN:VEVENT
DTSTART;VALUE=DATE:20260222
DTEND;VALUE=DATE:20260921
DTSTAMP:20260421T151530
CREATED:20250203T234849Z
LAST-MODIFIED:20250203T234849Z
UID:23633-1771718400-1789948799@wtlc.com.au
SUMMARY:The Courts - Sunday Spritz
DESCRIPTION:Refresh your Sundays with our Sunday Spritz special—five vibrant spritz options including Aperol\, Peach\, Limoncello\, Rhubi\, and Fresco. All day\, every Sunday\, for just $13 each. The perfect way to sip and relax!\n\n\n\n\nAvailable from The Courts at East exclusively. \nNot a member yet? Become a Wests member today to unlock exclusive deals and enjoy the best bar and restaurant specials in town.
URL:https://wtlc.com.au/event/the-courts-sunday-spritz/2026-02-22/
CATEGORIES:active,Member Promotions
ATTACH;FMTTYPE=image/jpeg:https://wtlc.com.au/wp-content/uploads/2025/02/Sunday-Spritz.jpg
END:VEVENT
BEGIN:VEVENT
DTSTART;VALUE=DATE:20260301
DTEND;VALUE=DATE:20260928
DTSTAMP:20260421T151530
CREATED:20250203T234849Z
LAST-MODIFIED:20250203T234849Z
UID:23665-1772323200-1790553599@wtlc.com.au
SUMMARY:The Courts - Sunday Spritz
DESCRIPTION:Refresh your Sundays with our Sunday Spritz special—five vibrant spritz options including Aperol\, Peach\, Limoncello\, Rhubi\, and Fresco. All day\, every Sunday\, for just $13 each. The perfect way to sip and relax!\n\n\n\n\nAvailable from The Courts at East exclusively. \nNot a member yet? Become a Wests member today to unlock exclusive deals and enjoy the best bar and restaurant specials in town.
URL:https://wtlc.com.au/event/the-courts-sunday-spritz/2026-03-01/
CATEGORIES:active,Member Promotions
ATTACH;FMTTYPE=image/jpeg:https://wtlc.com.au/wp-content/uploads/2025/02/Sunday-Spritz.jpg
END:VEVENT
BEGIN:VEVENT
DTSTART;VALUE=DATE:20260308
DTEND;VALUE=DATE:20261005
DTSTAMP:20260421T151530
CREATED:20250203T234849Z
LAST-MODIFIED:20250203T234849Z
UID:23699-1772928000-1791158399@wtlc.com.au
SUMMARY:The Courts - Sunday Spritz
DESCRIPTION:Refresh your Sundays with our Sunday Spritz special—five vibrant spritz options including Aperol\, Peach\, Limoncello\, Rhubi\, and Fresco. All day\, every Sunday\, for just $13 each. The perfect way to sip and relax!\n\n\n\n\nAvailable from The Courts at East exclusively. \nNot a member yet? Become a Wests member today to unlock exclusive deals and enjoy the best bar and restaurant specials in town.
URL:https://wtlc.com.au/event/the-courts-sunday-spritz/2026-03-08/
CATEGORIES:active,Member Promotions
ATTACH;FMTTYPE=image/jpeg:https://wtlc.com.au/wp-content/uploads/2025/02/Sunday-Spritz.jpg
END:VEVENT
BEGIN:VEVENT
DTSTART;VALUE=DATE:20260315
DTEND;VALUE=DATE:20261012
DTSTAMP:20260421T151530
CREATED:20250203T234849Z
LAST-MODIFIED:20250203T234849Z
UID:23855-1773532800-1791763199@wtlc.com.au
SUMMARY:The Courts - Sunday Spritz
DESCRIPTION:Refresh your Sundays with our Sunday Spritz special—five vibrant spritz options including Aperol\, Peach\, Limoncello\, Rhubi\, and Fresco. All day\, every Sunday\, for just $13 each. The perfect way to sip and relax!\n\n\n\n\nAvailable from The Courts at East exclusively. \nNot a member yet? Become a Wests member today to unlock exclusive deals and enjoy the best bar and restaurant specials in town.
URL:https://wtlc.com.au/event/the-courts-sunday-spritz/2026-03-15/
CATEGORIES:active,Member Promotions
ATTACH;FMTTYPE=image/jpeg:https://wtlc.com.au/wp-content/uploads/2025/02/Sunday-Spritz.jpg
END:VEVENT
BEGIN:VEVENT
DTSTART;VALUE=DATE:20260322
DTEND;VALUE=DATE:20261019
DTSTAMP:20260421T151530
CREATED:20250203T234849Z
LAST-MODIFIED:20250203T234849Z
UID:23887-1774137600-1792367999@wtlc.com.au
SUMMARY:The Courts - Sunday Spritz
DESCRIPTION:Refresh your Sundays with our Sunday Spritz special—five vibrant spritz options including Aperol\, Peach\, Limoncello\, Rhubi\, and Fresco. All day\, every Sunday\, for just $13 each. The perfect way to sip and relax!\n\n\n\n\nAvailable from The Courts at East exclusively. \nNot a member yet? Become a Wests member today to unlock exclusive deals and enjoy the best bar and restaurant specials in town.
URL:https://wtlc.com.au/event/the-courts-sunday-spritz/2026-03-22/
CATEGORIES:active,Member Promotions
ATTACH;FMTTYPE=image/jpeg:https://wtlc.com.au/wp-content/uploads/2025/02/Sunday-Spritz.jpg
END:VEVENT
BEGIN:VEVENT
DTSTART;VALUE=DATE:20260329
DTEND;VALUE=DATE:20261026
DTSTAMP:20260421T151530
CREATED:20250203T234849Z
LAST-MODIFIED:20250203T234849Z
UID:23907-1774742400-1792972799@wtlc.com.au
SUMMARY:The Courts - Sunday Spritz
DESCRIPTION:Refresh your Sundays with our Sunday Spritz special—five vibrant spritz options including Aperol\, Peach\, Limoncello\, Rhubi\, and Fresco. All day\, every Sunday\, for just $13 each. The perfect way to sip and relax!\n\n\n\n\nAvailable from The Courts at East exclusively. \nNot a member yet? Become a Wests member today to unlock exclusive deals and enjoy the best bar and restaurant specials in town.
URL:https://wtlc.com.au/event/the-courts-sunday-spritz/2026-03-29/
CATEGORIES:active,Member Promotions
ATTACH;FMTTYPE=image/jpeg:https://wtlc.com.au/wp-content/uploads/2025/02/Sunday-Spritz.jpg
END:VEVENT
BEGIN:VEVENT
DTSTART;VALUE=DATE:20260405
DTEND;VALUE=DATE:20261102
DTSTAMP:20260421T151530
CREATED:20250203T234849Z
LAST-MODIFIED:20250203T234849Z
UID:23932-1775347200-1793577599@wtlc.com.au
SUMMARY:The Courts - Sunday Spritz
DESCRIPTION:Refresh your Sundays with our Sunday Spritz special—five vibrant spritz options including Aperol\, Peach\, Limoncello\, Rhubi\, and Fresco. All day\, every Sunday\, for just $13 each. The perfect way to sip and relax!\n\n\n\n\nAvailable from The Courts at East exclusively. \nNot a member yet? Become a Wests member today to unlock exclusive deals and enjoy the best bar and restaurant specials in town.
URL:https://wtlc.com.au/event/the-courts-sunday-spritz/2026-04-05/
CATEGORIES:active,Member Promotions
ATTACH;FMTTYPE=image/jpeg:https://wtlc.com.au/wp-content/uploads/2025/02/Sunday-Spritz.jpg
END:VEVENT
BEGIN:VEVENT
DTSTART;VALUE=DATE:20260412
DTEND;VALUE=DATE:20261109
DTSTAMP:20260421T151530
CREATED:20250203T234849Z
LAST-MODIFIED:20250203T234849Z
UID:23965-1775952000-1794182399@wtlc.com.au
SUMMARY:The Courts - Sunday Spritz
DESCRIPTION:Refresh your Sundays with our Sunday Spritz special—five vibrant spritz options including Aperol\, Peach\, Limoncello\, Rhubi\, and Fresco. All day\, every Sunday\, for just $13 each. The perfect way to sip and relax!\n\n\n\n\nAvailable from The Courts at East exclusively. \nNot a member yet? Become a Wests member today to unlock exclusive deals and enjoy the best bar and restaurant specials in town.
URL:https://wtlc.com.au/event/the-courts-sunday-spritz/2026-04-12/
CATEGORIES:active,Member Promotions
ATTACH;FMTTYPE=image/jpeg:https://wtlc.com.au/wp-content/uploads/2025/02/Sunday-Spritz.jpg
END:VEVENT
BEGIN:VEVENT
DTSTART;VALUE=DATE:20260419
DTEND;VALUE=DATE:20261116
DTSTAMP:20260421T151530
CREATED:20250203T234849Z
LAST-MODIFIED:20250203T234849Z
UID:24106-1776556800-1794787199@wtlc.com.au
SUMMARY:The Courts - Sunday Spritz
DESCRIPTION:Refresh your Sundays with our Sunday Spritz special—five vibrant spritz options including Aperol\, Peach\, Limoncello\, Rhubi\, and Fresco. All day\, every Sunday\, for just $13 each. The perfect way to sip and relax!\n\n\n\n\nAvailable from The Courts at East exclusively. \nNot a member yet? Become a Wests member today to unlock exclusive deals and enjoy the best bar and restaurant specials in town.
URL:https://wtlc.com.au/event/the-courts-sunday-spritz/2026-04-19/
CATEGORIES:active,Member Promotions
ATTACH;FMTTYPE=image/jpeg:https://wtlc.com.au/wp-content/uploads/2025/02/Sunday-Spritz.jpg
END:VEVENT
BEGIN:VEVENT
DTSTART;VALUE=DATE:20260426
DTEND;VALUE=DATE:20261123
DTSTAMP:20260421T151530
CREATED:20250203T234849Z
LAST-MODIFIED:20250203T234849Z
UID:24142-1777161600-1795391999@wtlc.com.au
SUMMARY:The Courts - Sunday Spritz
DESCRIPTION:Refresh your Sundays with our Sunday Spritz special—five vibrant spritz options including Aperol\, Peach\, Limoncello\, Rhubi\, and Fresco. All day\, every Sunday\, for just $13 each. The perfect way to sip and relax!\n\n\n\n\nAvailable from The Courts at East exclusively. \nNot a member yet? Become a Wests member today to unlock exclusive deals and enjoy the best bar and restaurant specials in town.
URL:https://wtlc.com.au/event/the-courts-sunday-spritz/2026-04-26/
CATEGORIES:active,Member Promotions
ATTACH;FMTTYPE=image/jpeg:https://wtlc.com.au/wp-content/uploads/2025/02/Sunday-Spritz.jpg
END:VEVENT
BEGIN:VEVENT
DTSTART;VALUE=DATE:20260503
DTEND;VALUE=DATE:20261130
DTSTAMP:20260421T151530
CREATED:20250203T234849Z
LAST-MODIFIED:20250203T234849Z
UID:24173-1777766400-1795996799@wtlc.com.au
SUMMARY:The Courts - Sunday Spritz
DESCRIPTION:Refresh your Sundays with our Sunday Spritz special—five vibrant spritz options including Aperol\, Peach\, Limoncello\, Rhubi\, and Fresco. All day\, every Sunday\, for just $13 each. The perfect way to sip and relax!\n\n\n\n\nAvailable from The Courts at East exclusively. \nNot a member yet? Become a Wests member today to unlock exclusive deals and enjoy the best bar and restaurant specials in town.
URL:https://wtlc.com.au/event/the-courts-sunday-spritz/2026-05-03/
CATEGORIES:active,Member Promotions
ATTACH;FMTTYPE=image/jpeg:https://wtlc.com.au/wp-content/uploads/2025/02/Sunday-Spritz.jpg
END:VEVENT
BEGIN:VEVENT
DTSTART;VALUE=DATE:20260510
DTEND;VALUE=DATE:20261207
DTSTAMP:20260421T151530
CREATED:20250203T234849Z
LAST-MODIFIED:20250203T234849Z
UID:24247-1778371200-1796601599@wtlc.com.au
SUMMARY:The Courts - Sunday Spritz
DESCRIPTION:Refresh your Sundays with our Sunday Spritz special—five vibrant spritz options including Aperol\, Peach\, Limoncello\, Rhubi\, and Fresco. All day\, every Sunday\, for just $13 each. The perfect way to sip and relax!\n\n\n\n\nAvailable from The Courts at East exclusively. \nNot a member yet? Become a Wests member today to unlock exclusive deals and enjoy the best bar and restaurant specials in town.
URL:https://wtlc.com.au/event/the-courts-sunday-spritz/2026-05-10/
CATEGORIES:active,Member Promotions
ATTACH;FMTTYPE=image/jpeg:https://wtlc.com.au/wp-content/uploads/2025/02/Sunday-Spritz.jpg
END:VEVENT
BEGIN:VEVENT
DTSTART;VALUE=DATE:20260517
DTEND;VALUE=DATE:20261214
DTSTAMP:20260421T151530
CREATED:20250203T234849Z
LAST-MODIFIED:20250203T234849Z
UID:24276-1778976000-1797206399@wtlc.com.au
SUMMARY:The Courts - Sunday Spritz
DESCRIPTION:Refresh your Sundays with our Sunday Spritz special—five vibrant spritz options including Aperol\, Peach\, Limoncello\, Rhubi\, and Fresco. All day\, every Sunday\, for just $13 each. The perfect way to sip and relax!\n\n\n\n\nAvailable from The Courts at East exclusively. \nNot a member yet? Become a Wests member today to unlock exclusive deals and enjoy the best bar and restaurant specials in town.
URL:https://wtlc.com.au/event/the-courts-sunday-spritz/2026-05-17/
CATEGORIES:active,Member Promotions
ATTACH;FMTTYPE=image/jpeg:https://wtlc.com.au/wp-content/uploads/2025/02/Sunday-Spritz.jpg
END:VEVENT
BEGIN:VEVENT
DTSTART;VALUE=DATE:20260524
DTEND;VALUE=DATE:20261221
DTSTAMP:20260421T151530
CREATED:20250203T234849Z
LAST-MODIFIED:20250203T234849Z
UID:24297-1779580800-1797811199@wtlc.com.au
SUMMARY:The Courts - Sunday Spritz
DESCRIPTION:Refresh your Sundays with our Sunday Spritz special—five vibrant spritz options including Aperol\, Peach\, Limoncello\, Rhubi\, and Fresco. All day\, every Sunday\, for just $13 each. The perfect way to sip and relax!\n\n\n\n\nAvailable from The Courts at East exclusively. \nNot a member yet? Become a Wests member today to unlock exclusive deals and enjoy the best bar and restaurant specials in town.
URL:https://wtlc.com.au/event/the-courts-sunday-spritz/2026-05-24/
CATEGORIES:active,Member Promotions
ATTACH;FMTTYPE=image/jpeg:https://wtlc.com.au/wp-content/uploads/2025/02/Sunday-Spritz.jpg
END:VEVENT
BEGIN:VEVENT
DTSTART;VALUE=DATE:20260531
DTEND;VALUE=DATE:20261228
DTSTAMP:20260421T151530
CREATED:20250203T234849Z
LAST-MODIFIED:20250203T234849Z
UID:24314-1780185600-1798415999@wtlc.com.au
SUMMARY:The Courts - Sunday Spritz
DESCRIPTION:Refresh your Sundays with our Sunday Spritz special—five vibrant spritz options including Aperol\, Peach\, Limoncello\, Rhubi\, and Fresco. All day\, every Sunday\, for just $13 each. The perfect way to sip and relax!\n\n\n\n\nAvailable from The Courts at East exclusively. \nNot a member yet? Become a Wests member today to unlock exclusive deals and enjoy the best bar and restaurant specials in town.
URL:https://wtlc.com.au/event/the-courts-sunday-spritz/2026-05-31/
CATEGORIES:active,Member Promotions
ATTACH;FMTTYPE=image/jpeg:https://wtlc.com.au/wp-content/uploads/2025/02/Sunday-Spritz.jpg
END:VEVENT
BEGIN:VEVENT
DTSTART;VALUE=DATE:20260607
DTEND;VALUE=DATE:20270104
DTSTAMP:20260421T151530
CREATED:20250203T234849Z
LAST-MODIFIED:20250203T234849Z
UID:24346-1780790400-1799020799@wtlc.com.au
SUMMARY:The Courts - Sunday Spritz
DESCRIPTION:Refresh your Sundays with our Sunday Spritz special—five vibrant spritz options including Aperol\, Peach\, Limoncello\, Rhubi\, and Fresco. All day\, every Sunday\, for just $13 each. The perfect way to sip and relax!\n\n\n\n\nAvailable from The Courts at East exclusively. \nNot a member yet? Become a Wests member today to unlock exclusive deals and enjoy the best bar and restaurant specials in town.
URL:https://wtlc.com.au/event/the-courts-sunday-spritz/2026-06-07/
CATEGORIES:active,Member Promotions
ATTACH;FMTTYPE=image/jpeg:https://wtlc.com.au/wp-content/uploads/2025/02/Sunday-Spritz.jpg
END:VEVENT
BEGIN:VEVENT
DTSTART;VALUE=DATE:20260614
DTEND;VALUE=DATE:20270111
DTSTAMP:20260421T151530
CREATED:20250203T234849Z
LAST-MODIFIED:20250203T234849Z
UID:24370-1781395200-1799625599@wtlc.com.au
SUMMARY:The Courts - Sunday Spritz
DESCRIPTION:Refresh your Sundays with our Sunday Spritz special—five vibrant spritz options including Aperol\, Peach\, Limoncello\, Rhubi\, and Fresco. All day\, every Sunday\, for just $13 each. The perfect way to sip and relax!\n\n\n\n\nAvailable from The Courts at East exclusively. \nNot a member yet? Become a Wests member today to unlock exclusive deals and enjoy the best bar and restaurant specials in town.
URL:https://wtlc.com.au/event/the-courts-sunday-spritz/2026-06-14/
CATEGORIES:active,Member Promotions
ATTACH;FMTTYPE=image/jpeg:https://wtlc.com.au/wp-content/uploads/2025/02/Sunday-Spritz.jpg
END:VEVENT
BEGIN:VEVENT
DTSTART;VALUE=DATE:20260621
DTEND;VALUE=DATE:20270118
DTSTAMP:20260421T151530
CREATED:20250203T234849Z
LAST-MODIFIED:20250203T234849Z
UID:24454-1782000000-1800230399@wtlc.com.au
SUMMARY:The Courts - Sunday Spritz
DESCRIPTION:Refresh your Sundays with our Sunday Spritz special—five vibrant spritz options including Aperol\, Peach\, Limoncello\, Rhubi\, and Fresco. All day\, every Sunday\, for just $13 each. The perfect way to sip and relax!\n\n\n\n\nAvailable from The Courts at East exclusively. \nNot a member yet? Become a Wests member today to unlock exclusive deals and enjoy the best bar and restaurant specials in town.
URL:https://wtlc.com.au/event/the-courts-sunday-spritz/2026-06-21/
CATEGORIES:active,Member Promotions
ATTACH;FMTTYPE=image/jpeg:https://wtlc.com.au/wp-content/uploads/2025/02/Sunday-Spritz.jpg
END:VEVENT
BEGIN:VEVENT
DTSTART;TZID=UTC:20260626T180000
DTEND;TZID=UTC:20260628T190000
DTSTAMP:20260421T151530
CREATED:20250209T230011Z
LAST-MODIFIED:20260414T011816Z
UID:22055-1782496800-1782673200@wtlc.com.au
SUMMARY:NSWRL Magic Round
DESCRIPTION:The NSWRL will return to Tamworth in 2026 with the Regional Magic Round\, set to light up Scully Park from 26-28 June. This three-day festival of Rugby League will feature an action-packed lineup of games in The Knock-On Effect NSW Cup. \nChildren 4yrs & under – FREE ENTRY \n\n📅 Match Schedule:\nFriday 26th June\n6:00pm – Gates\n7:00pm – Parramatta Eels v Newcastle Knights \nSaturday 27th June\n10:00am – Gates\n11:00am – St George Dragons v Penrith Panthers\n3:00pm – Sydney Roosters v South Sydney Rabbitohs \nSunday 28th June\n10:00am – Gates\n11:00am – North Sydney Bears v Melbourne Storm\n3:00pm – Manly Sea Eagles v Canterbury Bankstown Bulldogs \n🚫 Event Info: \n\nCashless Event: All purchases at Scully Park will be cashless.\nProhibited Items:\n\nChairs\, esky coolers\, tents/shades/umbrellas\nAlcohol\, glass bottles\, or cans\nHot food/fast food from outside vendors\nIllegal substances\, laser pointers\, weapons/knives\nFlares\, explosives\, or any objects that may be used as weapons\n\n\n\nDon’t miss your chance to be part of Rugby League history in Tamworth! Secure your tickets now and experience every moment of the Regional Magic Round live at Scully Park.
URL:https://wtlc.com.au/event/nswrl-magic-round/
CATEGORIES:active,Box office
ATTACH;FMTTYPE=image/jpeg:https://wtlc.com.au/wp-content/uploads/2025/02/Magic-Round-Web.jpg
END:VEVENT
BEGIN:VEVENT
DTSTART;VALUE=DATE:20260628
DTEND;VALUE=DATE:20270125
DTSTAMP:20260421T151530
CREATED:20250203T234849Z
LAST-MODIFIED:20250203T234849Z
UID:24490-1782604800-1800835199@wtlc.com.au
SUMMARY:The Courts - Sunday Spritz
DESCRIPTION:Refresh your Sundays with our Sunday Spritz special—five vibrant spritz options including Aperol\, Peach\, Limoncello\, Rhubi\, and Fresco. All day\, every Sunday\, for just $13 each. The perfect way to sip and relax!\n\n\n\n\nAvailable from The Courts at East exclusively. \nNot a member yet? Become a Wests member today to unlock exclusive deals and enjoy the best bar and restaurant specials in town.
URL:https://wtlc.com.au/event/the-courts-sunday-spritz/2026-06-28/
CATEGORIES:active,Member Promotions
ATTACH;FMTTYPE=image/jpeg:https://wtlc.com.au/wp-content/uploads/2025/02/Sunday-Spritz.jpg
END:VEVENT
END:VCALENDAR